BEGIN:VCALENDAR
VERSION:2.0
PRODID:-//demosphere.net//NONSGML kigkonsult.se iCalcreator 2.22.1//
METHOD:REQUEST
X-WR-TIMEZONE:Europe/Paris
BEGIN:VEVENT
UID:https://safe.liege.demosphere.net/rv/12637
DTSTAMP:20260819T120000Z
DESCRIPTION:plus d'infos sur : https://safe.liege.demosphere.net/rv/12637
DTSTART:20260819T120000Z
DTEND:20260819T130000Z
GEO:+50.639277;+5.573612
LOCATION:Liège\, \nPlace des Carmes \n4000 Liège
SUMMARY:Installation pour enfants La Pêche aux Histoires
URL:https://safe.liege.demosphere.net/rv/12637
END:VEVENT
END:VCALENDAR
