BEGIN:VCALENDAR
VERSION:2.0
PRODID:-//demosphere.net//NONSGML kigkonsult.se iCalcreator 2.22.1//
METHOD:REQUEST
X-WR-TIMEZONE:Europe/Paris
BEGIN:VEVENT
UID:https://safe.liege.demosphere.net/rv/12653
DTSTAMP:20260902T153000Z
DESCRIPTION:plus d'infos sur : https://safe.liege.demosphere.net/rv/12653
DTSTART:20260902T153000Z
DTEND:20260902T163000Z
GEO:+50.639277;+5.573612
LOCATION:Liège\, \nPlace des Carmes \n4000 Liège
SUMMARY:Poésie Poketo Poketo Poketo Poum poum poum
URL:https://safe.liege.demosphere.net/rv/12653
END:VEVENT
END:VCALENDAR
