BEGIN:VCALENDAR
VERSION:2.0
PRODID:-//demosphere.net//NONSGML kigkonsult.se iCalcreator 2.22.1//
METHOD:REQUEST
X-WR-TIMEZONE:Europe/Paris
BEGIN:VEVENT
UID:https://safe.liege.demosphere.net/rv/12654
DTSTAMP:20260910T163000Z
DESCRIPTION:plus d'infos sur : https://safe.liege.demosphere.net/rv/12654
DTSTART:20260910T163000Z
DTEND:20260910T173000Z
GEO:+50.639099;+5.573798
LOCATION:Liège\, \nLes Chiroux \nPlace des Carmes 8 \n4000 Liège
SUMMARY:Musique Rhythm’n Move
URL:https://safe.liege.demosphere.net/rv/12654
END:VEVENT
END:VCALENDAR
