BEGIN:VCALENDAR
VERSION:2.0
PRODID:-//demosphere.net//NONSGML kigkonsult.se iCalcreator 2.22.1//
METHOD:REQUEST
X-WR-TIMEZONE:Europe/Paris
BEGIN:VEVENT
UID:https://safe.liege.demosphere.net/rv/12674
DTSTAMP:20260507T170000Z
DESCRIPTION:plus d'infos sur : https://safe.liege.demosphere.net/rv/12674
DTSTART:20260507T170000Z
DTEND:20260507T180000Z
GEO:+50.646895;+5.572961
LOCATION:Liège\, \nCasa Nicaragua \nRue Pierreuse 23 \n4000 Liège
SUMMARY:En finir avec le déni - Rencontre avec Christian Savestre et Marc J
 oly
URL:https://safe.liege.demosphere.net/rv/12674
END:VEVENT
END:VCALENDAR
